BEGIN:VCALENDAR
VERSION:2.0
PRODID:-//ANSTO Innovation Precinct - ECPv4.9.13//NONSGML v1.0//EN
CALSCALE:GREGORIAN
METHOD:PUBLISH
X-WR-CALNAME:ANSTO Innovation Precinct
X-ORIGINAL-URL:https://innovation.ansto.gov.au
X-WR-CALDESC:Events for ANSTO Innovation Precinct
BEGIN:VTIMEZONE
TZID:Australia/Sydney
BEGIN:STANDARD
TZOFFSETFROM:+1100
TZOFFSETTO:+1000
TZNAME:AEST
DTSTART:20190406T160000
END:STANDARD
BEGIN:DAYLIGHT
TZOFFSETFROM:+1000
TZOFFSETTO:+1100
TZNAME:AEDT
DTSTART:20191005T160000
END:DAYLIGHT
END:VTIMEZONE
BEGIN:VEVENT
DTSTART;TZID=Australia/Sydney:20190619T170000
DTEND;TZID=Australia/Sydney:20190619T183000
DTSTAMP:20200301T230220
CREATED:20190517T024716Z
LAST-MODIFIED:20190517T025840Z
UID:1766-1560963600-1560969000@innovation.ansto.gov.au
SUMMARY:ShireStart - Beer\, Wine & Cheese Networking event
DESCRIPTION:		\n			\n				\n							\n						\n				\n				\n			\n					\n				\n				\n					\n																					\n				\n				\n				\n				\n					\n			\n						\n						Register now\n		\n					\n		\n				\n				\n				\n				\n					ShireStart Networking events are a collaboration between: ANSTO’s nandin Deep Technology Incubator\, The Sutherland Shire Business Chamber and Inspire CoWork. ShireStart has been formed with the aim of encouraging collaboration and dialogue to grow Sydney’s Innovation Network focusing on our local area. These events are ideal for startups\, entrepreneurs\, established business owners and those just thinking about starting their business journey. The first ShireStart gathering for 2019 will be an After 5’s Beer\, Wine & Cheese networking event. Come along\, enjoy some delicious food and refreshments\, and hear from our panel of guest speakers:  Matt Lynch from eVisuals is part of ANSTO’s nandin Deep Technology Incubator and will speak about his journey to starting an innovative technology business for keeping people safe during a building emergency/evacuation. Matt will also share his secrets for the business’ success.  Makrina Zaharopoulos from Service NSW will share how their Free “Easy to do Business” service provides personalised help and support when starting or expanding a small business so you can focus on your business and save time and money.  Lital Green from Inspire Cowork will share how the business started out with just 3 trestle tables from Bunnings\, to now being the Shire’s larges co-working space with over 1500m2 of elegantly fitted out office space. \n				\n				\n						\n			\n		\n						\n			\n		\n						\n			\n		\n		
URL:https://innovation.ansto.gov.au/event/shirestart-beer-wine-cheese-networking-event/
LOCATION:Inspire Cowork\, Level 4\, 29 Kiora Road\, Miranda\, NSW\, 2228\, Australia
CATEGORIES:Business,Industry,Networking
GEO:-34.0332379;151.1022225
X-APPLE-STRUCTURED-LOCATION;VALUE=URI;X-ADDRESS=Inspire Cowork Level 4 29 Kiora Road Miranda NSW 2228 Australia;X-APPLE-RADIUS=500;X-TITLE=Level 4\, 29 Kiora Road:geo:151.1022225,-34.0332379
END:VEVENT
END:VCALENDAR